BEGIN:VCALENDAR
VERSION:2.0
PRODID:-//eventon.com NONSGML v1.0//EN
CALSCALE:GREGORIAN
METHOD:PUBLISH
BEGIN:VEVENT
UID:69e8ba75d06f8
DTSTAMP:20260422T120925Z
DTSTART:20210218T060000Z
DTEND:20210401T073000Z
LOCATION:Fonteinkerk Robert Kochstraat 2-4\,  3817 JM Amersfoort
SUMMARY:Stiltemomenten in de 40dagentijd
DESCRIPTION:Ook tijdens de 40dagentijd organiseert de Fonteinkerk een serie
  Stiltemomenten. Van maandag tot en met vrijdag tussen 19:00 en 20:30 uur e
 n op zondag tussen 14:00 en 16:00 uur bent u welkom. Om de stilte van de ke
 rkzaal te ervaren\,  een kaarsje te branden\,  een kop koffie of thee te[..
 ]\nhttps://fonteinkerk-amersfoort.nl/events/stiltemomenten-in-de-40dagentij
 d/
URL:https://fonteinkerk-amersfoort.nl/events/stiltemomenten-in-de-40dagentijd/
END:VEVENT
END:VCALENDAR