BEGIN:VCALENDAR
VERSION:2.0
PRODID:-//eventon.com NONSGML v1.0//EN
CALSCALE:GREGORIAN
METHOD:PUBLISH
BEGIN:VEVENT
UID:69e8a62de58ed
DTSTAMP:20260422T104253Z
DTSTART:20201212T100000Z
DTEND:20201212T120000Z
LOCATION:Fonteinkerk Robert Kochstraat 2-4\,  3817 JM Amersfoort
SUMMARY:Kaarsen voor Stichting Mikondo
DESCRIPTION:Zoals u wellicht weet giet een enthousiast team vrijwilligers u
 it de Fonteinkerk al jaren kaarsen van kaarsrestanten. Dit doen we voor de 
 Stichting Mikondo in Congo. Deze stichting geeft kansarme Congolese jongere
 n de mogelijkheid om onderwijs te ontvangen en helpt hen daarmee aan een be
 tere toekomst. Op zaterdag 12 december[..]\nhttps://fonteinkerk-amersfoort.
 nl/events/kaarsen-voor-stichting-mikondo/
URL:https://fonteinkerk-amersfoort.nl/events/kaarsen-voor-stichting-mikondo/
END:VEVENT
END:VCALENDAR