BEGIN:VCALENDAR
VERSION:2.0
PRODID:-//eventon.com NONSGML v1.0//EN
CALSCALE:GREGORIAN
METHOD:PUBLISH
BEGIN:VEVENT
UID:69e8920428fe9
DTSTAMP:20260422T091652Z
DTSTART:20201127T190000Z
DTEND:20201127T210000Z
LOCATION:Fonteinkerk Robert Kochstraat 2-4\,  3817 JM Amersfoort
SUMMARY:Stiltemomenten in de Adventstijd
DESCRIPTION:Kort na het begin van de beperkende maatregelen rond het Corona
 virus\,  in het vroege voorjaar van 2020. is de Fonteinkerk gestart met een
  Stiltemoment. In de zomermaanden continueerden wij dit op vrijdagavonden\,
   in combinatie met een expositie in Huis van Zuid. Tijdens de Adventstijd 
 organiseert de Fonteinkerk opnieuw een serie[..]\nhttps://fonteinkerk-amers
 foort.nl/events/stiltemomenten-in-de-adventstijd/
URL:https://fonteinkerk-amersfoort.nl/events/stiltemomenten-in-de-adventstijd/
END:VEVENT
END:VCALENDAR