BEGIN:VCALENDAR
VERSION:2.0
PRODID:-//eventon.com NONSGML v1.0//EN
CALSCALE:GREGORIAN
METHOD:PUBLISH
BEGIN:VEVENT
UID:69e8a6731b85c
DTSTAMP:20260422T104403Z
DTSTART:20210128T070000Z
DTEND:20210128T090000Z
LOCATION:Fonteinkerk Robert Kochstraat 2-4\,  3817 JM Amersfoort
SUMMARY:Leerhuis: Parabels
DESCRIPTION:LEERHUIS PARABELS\, &nbsp;Scherpe vragen\,  rake beelden uit Ev
 angelie\,  Midrasj en Koran De parabel is een kort of wat langer beeldrijk 
 verhaal. We komen het tegen in de geschriften van de drie Abrahamitische tr
 adities. De parabel maakt meestal in een paar zinnen duidelijk waar het om 
 gaat. Maar ook zijn er parabels[..]\nhttps://fonteinkerk-amersfoort.nl/even
 ts/leerhuis-parabels/
URL:https://fonteinkerk-amersfoort.nl/events/leerhuis-parabels/
END:VEVENT
END:VCALENDAR