BEGIN:VCALENDAR
VERSION:2.0
PRODID:-//eventon.com NONSGML v1.0//EN
CALSCALE:GREGORIAN
METHOD:PUBLISH
BEGIN:VEVENT
UID:69e8a1be5bd21
DTSTAMP:20260422T102358Z
DTSTART:20201113T200000Z
DTEND:20201113T230000Z
LOCATION:Joriskerk Hof 1
SUMMARY:Nachtlicht november 2020
DESCRIPTION:Nachtlicht Midden in de stad\,  naast film en café\,  is er Na
 chtlicht. Een rustpunt op je vrijdagavond\,  een plek om los te laten en op
  te laden. In de donkere Joriskerk leidt een spoor van honderden lichtjes j
 e naar de plek waar jij ook jouw kaarsje neer kunt zetten. Een[..]\nhttps:/
 /fonteinkerk-amersfoort.nl/events/nachtlicht-november-2020/
URL:https://fonteinkerk-amersfoort.nl/events/nachtlicht-november-2020/
END:VEVENT
END:VCALENDAR