BEGIN:VCALENDAR
VERSION:2.0
PRODID:-//eventon.com NONSGML v1.0//EN
CALSCALE:GREGORIAN
METHOD:PUBLISH
BEGIN:VEVENT
UID:69e891d4b79ee
DTSTAMP:20260422T091604Z
DTSTART:20200926T200000Z
DTEND:20200926T235000Z
LOCATION:Fonteinkerk Robert Kochstraat 2-4\,  3817 JM Amersfoort
SUMMARY:Bonhoeffer 'Wie ben ik
DESCRIPTION:Bonhoeffer\,  wie ben ik *** UITVERKOCHT *** Op 26 september 20
 20 speelt Kees van der Zwaard zijn voorstelling Bonhoeffer ‘Wie ben ik’
 ? in de Fonteinkerk. Op 5 mei 2020 was het 75 geleden dat de Tweede Wereldo
 orlog was afgelopen. We vieren de vrijheid. Op 9 april 2020 was het 75[..]\
 nhttps://fonteinkerk-amersfoort.nl/events/bonhoeffer-wie-ben-ik/
URL:https://fonteinkerk-amersfoort.nl/events/bonhoeffer-wie-ben-ik/
END:VEVENT
END:VCALENDAR