BEGIN:VCALENDAR
VERSION:2.0
PRODID:-//eventon.com NONSGML v1.0//EN
CALSCALE:GREGORIAN
METHOD:PUBLISH
BEGIN:VEVENT
UID:69e8925620eba
DTSTAMP:20260422T091814Z
DTSTART:20200705
DTEND:20200706
LOCATION:Fonteinkerk Robert Kochstraat 2-4\,  3817 JM Amersfoort
SUMMARY:Expositie Willem Hendrik Veenendaal
DESCRIPTION:Expositie Willem Hendrik Veenendaal In de maanden juli en augus
 tus zijn er in Huis van Zuid schilderijen te zien van de Amersfoortse schil
 der Hendrik Willem Veenendaal (1886-1946). Tijdens een Muziek &amp; Ontmoet
 ing vorig jaar hebben wij Marijke en Inge Veenendaal\,  kleindochters van d
 eze kunstenaar\,  ontmoet en bespraken we de mogelijkheid[..]\nhttps://font
 einkerk-amersfoort.nl/events/expositie-willem-hendrik-veenendaal/
URL:https://fonteinkerk-amersfoort.nl/events/expositie-willem-hendrik-veenendaal/
END:VEVENT
END:VCALENDAR