BEGIN:VCALENDAR
VERSION:2.0
PRODID:-//eventon.com NONSGML v1.0//EN
CALSCALE:GREGORIAN
METHOD:PUBLISH
BEGIN:VEVENT
UID:69e902a543c2c
DTSTAMP:20260422T171725Z
DTSTART:20171009T200000Z
DTEND:20171009T235000Z
LOCATION:
SUMMARY:Leerhuis: Gebed - deel 1
DESCRIPTION:In samenwerking met de Emmauskerk vindt een serie Leerhuis-avon
 den plaats rond het thema Gebed. De avonden staan onder leiding van Dineke 
 Houtman en Paul van der Harst. De avonden vinden plaats op 9 oktober in de 
 Fonteinkerk 23 oktober in de Fonteinkerk 6 november in de Fonteinkerk 20 no
 vember in[..]\nhttps://fonteinkerk-amersfoort.nl/events/leerhuis-gebed-deel
 -1/
URL:https://fonteinkerk-amersfoort.nl/events/leerhuis-gebed-deel-1/
END:VEVENT
END:VCALENDAR