BEGIN:VCALENDAR
VERSION:2.0
PRODID:-//eventon.com NONSGML v1.0//EN
CALSCALE:GREGORIAN
METHOD:PUBLISH
BEGIN:VEVENT
UID:69e8d31a2a5d2
DTSTAMP:20260422T135434Z
DTSTART:20171102T194500Z
DTEND:20171102T235000Z
LOCATION:Fonteinkerk Robert Kochstraat 2-4\,  3817 JM Amersfoort
SUMMARY:Bibliodrama\,  deel 2
DESCRIPTION:De commissie Vorming Door Ontmoeting organiseert in samenwerkin
 g met Caroline Bezemer op 4 oktober\,  2 november en 29 november opnieuw ee
 n serie avonden met bibliodrama. IN HET WOORD â€˜BIBLIO-DRAMAâ€™ VERWIJST â
 €˜BIBLIOâ€™ NAAR BOEKEN\,  DRAMA NAAR HET SPELEN VAN DE ROLLEN EN SITUATIES
 . Door het spelen van Bijbelse rollen en situaties[..]\nhttps://fonteinkerk
 -amersfoort.nl/events/bibliodrama-deel-2/
URL:https://fonteinkerk-amersfoort.nl/events/bibliodrama-deel-2/
END:VEVENT
END:VCALENDAR