BEGIN:VCALENDAR
VERSION:2.0
PRODID:-//eventon.com NONSGML v1.0//EN
CALSCALE:GREGORIAN
METHOD:PUBLISH
BEGIN:VEVENT
UID:69e8a5c155fc8
DTSTAMP:20260422T104105Z
DTSTART:20171030T200000Z
DTEND:20171030T235000Z
LOCATION:Fonteinkerk Robert Kochstraat 2-4\,  3817 JM Amersfoort
SUMMARY:500 jaar Reformatie\,  500 jaar boekdrukkunst
DESCRIPTION:De commissie Vorming Door Ontmoeting organiseert een lezing doo
 r Jan Greven in het kader van het Lutherjaar. Op 31 oktober 1517 spijkerde 
 Luther zijn stellingen tegen de deur van de Slotkerk van Wittenberg. Zonder
  de boekdrukkunst zou dat een beperkte actie gebleven zijn. Nu waren de ste
 llingen eind 1517 al[..]\nhttps://fonteinkerk-amersfoort.nl/events/lutherja
 ar-reformatie-boekdrukkunst/
URL:https://fonteinkerk-amersfoort.nl/events/lutherjaar-reformatie-boekdrukkunst/
END:VEVENT
END:VCALENDAR