BEGIN:VCALENDAR
VERSION:2.0
PRODID:-//eventon.com NONSGML v1.0//EN
CALSCALE:GREGORIAN
METHOD:PUBLISH
BEGIN:VEVENT
UID:69e8a56413c60
DTSTAMP:20260422T103932Z
DTSTART:20171110T200000Z
DTEND:20171110T235000Z
LOCATION:Fonteinkerk Robert Kochstraat 2-4\,  3817 JM Amersfoort
SUMMARY:Wees erbij café: Ruud Bartlema over Hans Andreus
DESCRIPTION:Wees erbij café: Ruud Bartlema over Hans Andreus De commissie 
 Vorming Door Ontmoeting organiseert een thema-avond rond de dichter Hans An
 dreus. Ruud Bartlema\,  beeldend kunstenaar en leraar Joodse mystiek uit So
 est gaat in op zijn leven en dichtkunst. In een performance van voordracht 
 en muziek zal hij een vertolking geven[..]\nhttps://fonteinkerk-amersfoort.
 nl/events/wees-erbij-cafe-hans-andreus/
URL:https://fonteinkerk-amersfoort.nl/events/wees-erbij-cafe-hans-andreus/
END:VEVENT
END:VCALENDAR