BEGIN:VCALENDAR
VERSION:2.0
PRODID:-//eventon.com NONSGML v1.0//EN
CALSCALE:GREGORIAN
METHOD:PUBLISH
BEGIN:VEVENT
UID:69e8ba5f577c4
DTSTAMP:20260422T120903Z
DTSTART:20171112T150000Z
DTEND:20171112T235000Z
LOCATION:Fonteinkerk Robert Kochstraat 2-4\,  3817 JM Amersfoort
SUMMARY:Poppenkastvoorstelling november 2017
DESCRIPTION:Ook deze maand organiseert de Fonteinkerk  de traditionele pop
 penkastvoorstelling in Huis van Zuid. De voorstelling begint om 15:00 uur\
 ,  de toegang is vrij maar een vrijwillige bijdrage voor de straatkinderen 
 in Congo is welkom. Kom je ook en neem je je vriendjes en vriendinnetjes me
 e? Een impressie van een eerdere voorstelling[..]\nhttps://fonteinkerk-amer
 sfoort.nl/events/poppenkastvoorstelling-november-2017/
URL:https://fonteinkerk-amersfoort.nl/events/poppenkastvoorstelling-november-2017/
END:VEVENT
END:VCALENDAR