BEGIN:VCALENDAR
VERSION:2.0
PRODID:-//eventon.com NONSGML v1.0//EN
CALSCALE:GREGORIAN
METHOD:PUBLISH
BEGIN:VEVENT
UID:69e892144f4e5
DTSTAMP:20260422T091708Z
DTSTART:20170910T150000Z
DTEND:20170910T235000Z
LOCATION:Fonteinkerk Robert Kochstraat 2-4\,  3817 JM Amersfoort
SUMMARY:Poppenkastvoorstelling september 2017
DESCRIPTION:Ook deze maand organiseert de Fonteinkerk de traditionele popp
 enkastvoorstelling in Huis van Zuid. De voorstelling begint om 15:00 uur\,
   de toegang is vrij maar een vrijwillige bijdrage voor de straatkinderen i
 n Congo is welkom. Kom je ook en neem je je vriendjes en vriendinnetjes mee
 ? Een impressie van een eerdere voorstelling vind[..]\nhttps://fonteinkerk-
 amersfoort.nl/events/poppenkastvoorstellingseptember2017/
URL:https://fonteinkerk-amersfoort.nl/events/poppenkastvoorstellingseptember2017/
END:VEVENT
END:VCALENDAR