BEGIN:VCALENDAR
VERSION:2.0
PRODID:-//eventon.com NONSGML v1.0//EN
CALSCALE:GREGORIAN
METHOD:PUBLISH
BEGIN:VEVENT
UID:69e8a8bd86363
DTSTAMP:20260422T105349Z
DTSTART:20200327T190000Z
DTEND:20200327T235000Z
LOCATION:Fonteinkerk Robert Kochstraat 2-4\,  3817 JM Amersfoort
SUMMARY:Pasen verbeeldt\,  een Frisse Blik
DESCRIPTION:Pasen verbeeldt Een frisse blik Een zonnetje dat door de wolken
  breekt en een stralend gele narcis\,  midden in het gazon&#8230;. Had ik h
 em daar écht gepoot\,  dat is toch onmogelijk? Maar waarom zou die narcis 
 eigenlijk in een perk &#8211; ingeperkt &#8211; moeten staan? Ineens ziet d
 e wereld er[..]\nhttps://fonteinkerk-amersfoort.nl/events/pasen-verbeeldt-e
 en-frisse-blik/
URL:https://fonteinkerk-amersfoort.nl/events/pasen-verbeeldt-een-frisse-blik/
END:VEVENT
END:VCALENDAR