BEGIN:VCALENDAR
VERSION:2.0
PRODID:-//eventon.com NONSGML v1.0//EN
CALSCALE:GREGORIAN
METHOD:PUBLISH
BEGIN:VEVENT
UID:69e8b9e998d88
DTSTAMP:20260422T120705Z
DTSTART:20200329T120000Z
DTEND:20200329T140000Z
LOCATION:Fonteinkerk Robert Kochstraat 2-4\,  3817 JM Amersfoort
SUMMARY:Muziek en Ontmoeting
DESCRIPTION:Geen Passie maar SMART Op zondag 29 maart a.s. vindt de volgend
 e Muziek &amp; Ontmoeting van het seizoen 2019-2020 plaats. De Klaagzangen 
 van Jeremiah zijn al vaak op muziek gezet. Een prachtig voorbeeld daarvan z
 ijn de Responsoria van renaissancecomponist Carlo Gesualdo da Venosa (LINK 
 naar achtergrondinformatie). In zijn tijd voor[..]\nhttps://fonteinkerk-ame
 rsfoort.nl/events/muziek-en-ontmoeting-2/
URL:https://fonteinkerk-amersfoort.nl/events/muziek-en-ontmoeting-2/
END:VEVENT
END:VCALENDAR