BEGIN:VCALENDAR
VERSION:2.0
PRODID:-//eventon.com NONSGML v1.0//EN
CALSCALE:GREGORIAN
METHOD:PUBLISH
BEGIN:VEVENT
UID:69e8bb2d3b1be
DTSTAMP:20260422T121229Z
DTSTART:20200318T180000Z
DTEND:20200318T235000Z
LOCATION:Fonteinkerk Robert Kochstraat 2-4\,  3817 JM Amersfoort
SUMMARY:Sobere maaltijd in de 40 dagentijd
DESCRIPTION:Sobere maaltijd in de 40 dagentijd Een tijdlang je onthouden va
 n het gebruik van bepaalde dingen. Het kan gaan om snoep\,  het drinken van
  alcohol\,  of gebruik je de auto wat minder of helemaal niet. Een dag geen
  computer of iPhone\,  geen tv kijken. Het is een tijd van stilstaan[..]\nh
 ttps://fonteinkerk-amersfoort.nl/events/sobere-maaltijd-in-de-40-dagentijd-
 2020-2/
URL:https://fonteinkerk-amersfoort.nl/events/sobere-maaltijd-in-de-40-dagentijd-2020-2/
END:VEVENT
END:VCALENDAR