BEGIN:VCALENDAR
VERSION:2.0
PRODID:-//eventon.com NONSGML v1.0//EN
CALSCALE:GREGORIAN
METHOD:PUBLISH
BEGIN:VEVENT
UID:69e8a6a1897d2
DTSTAMP:20260422T104449Z
DTSTART:20200306T200000Z
DTEND:20200306T230000Z
LOCATION:Joriskerk Hof 1
SUMMARY:Nachtlicht
DESCRIPTION:Nachtlicht NACHTLICHT IS MIDDEN IN DE STAD EEN LICHTPUNTJE VOOR
  JEZELF\,  ALLEEN EN TOCH OOK SAMEN. Vrijdagavond 22 november was de eerste
  editie van Nachtlicht. Honderden mensen kwamen langs in de Joriskerk. Om e
 en kaarsje aan te steken\,  om zo maar even te zitten en tot rust te komen 
 op[..]\nhttps://fonteinkerk-amersfoort.nl/events/nachtlicht-maart-2020/
URL:https://fonteinkerk-amersfoort.nl/events/nachtlicht-maart-2020/
END:VEVENT
END:VCALENDAR