BEGIN:VCALENDAR
VERSION:2.0
PRODID:-//eventon.com NONSGML v1.0//EN
CALSCALE:GREGORIAN
METHOD:PUBLISH
BEGIN:VEVENT
UID:69e8a56412197
DTSTAMP:20260422T103932Z
DTSTART:20200628T120000Z
DTEND:20200628T140000Z
LOCATION:Fonteinkerk Robert Kochstraat 2-4\,  3817 JM Amersfoort
SUMMARY:Muziek en Ontmoeting
DESCRIPTION:Vocaal Ensemble Cantus Lux Aetema Amersfoort Op zondag 18 juni 
 a.s. vindt de laatste Muziek &amp; Ontmoeting van het seizoen 2019-2020 pla
 ats. Meer informatie volgt binnenkort. De website van het Cantus Lux Aetema
  vindt u HIER. Achtergrondinformatie over Muziek &amp; Ontmoeting en het ja
 arprogramma vindt u HIER. Zaal open:       [..]\nhttps://fonteinkerk-
 amersfoort.nl/events/muziek-en-ontmoeting-juni-2020/
URL:https://fonteinkerk-amersfoort.nl/events/muziek-en-ontmoeting-juni-2020/
END:VEVENT
END:VCALENDAR