BEGIN:VCALENDAR
VERSION:2.0
PRODID:-//eventon.com NONSGML v1.0//EN
CALSCALE:GREGORIAN
METHOD:PUBLISH
BEGIN:VEVENT
UID:69e891f683f46
DTSTAMP:20260422T091638Z
DTSTART:20200510T120000Z
DTEND:20200510T140000Z
LOCATION:Fonteinkerk Robert Kochstraat 2-4\,  3817 JM Amersfoort
SUMMARY:Muziek en Ontmoeting
DESCRIPTION:Kamerkoor Venus en VU-kamerkoor Op zondag 10 mei a.s. vindt de 
 vijfde Muziek &amp; Ontmoeting van het seizoen 2019-2020 plaats. Meer infor
 matie volgt binnenkort. De website van het Kamerkoor Venus vindt u HIER\,  
 die van het VU Kamerkoor HIER. Achtergrondinformatie over Muziek &amp; Ontm
 oeting en het jaarprogramma vindt u HIER.[..]\nhttps://fonteinkerk-amersfoo
 rt.nl/events/muziek-en-ontmoeting-mei-2020/
URL:https://fonteinkerk-amersfoort.nl/events/muziek-en-ontmoeting-mei-2020/
END:VEVENT
END:VCALENDAR