BEGIN:VCALENDAR
VERSION:2.0
PRODID:-//eventon.com NONSGML v1.0//EN
CALSCALE:GREGORIAN
METHOD:PUBLISH
BEGIN:VEVENT
UID:69e8bab94101f
DTSTAMP:20260422T121033Z
DTSTART:20200216
DTEND:20200217
LOCATION:Fonteinkerk Robert Kochstraat 2-4\,  3817 JM Amersfoort
SUMMARY:Expositie Mohamed Beces
DESCRIPTION:Expositie Mohamed Beces Van 16 februari tot en met 19 april 202
 0 zal er in de Fonteinkerk een expositie gehouden worden met werk van de Sy
 rische kunstenaar Mohamed Beces Nadere informatie volgt binnenkort op deze 
 website. De expositie wordt geopend op zondag 16 februari om 11:30 uur.  D
 e expositie bezoeken[..]\nhttps://fonteinkerk-amersfoort.nl/events/expositi
 e-mohamed-beces/
URL:https://fonteinkerk-amersfoort.nl/events/expositie-mohamed-beces/
END:VEVENT
END:VCALENDAR