BEGIN:VCALENDAR
VERSION:2.0
PRODID:-//eventon.com NONSGML v1.0//EN
CALSCALE:GREGORIAN
METHOD:PUBLISH
BEGIN:VEVENT
UID:69e8a67838378
DTSTAMP:20260422T104408Z
DTSTART:20200228T200000Z
DTEND:20200228T235000Z
LOCATION:Fonteinkerk Robert Kochstraat 2-4\,  3817 JM Amersfoort
SUMMARY:Wees Erbij Café: Duurzaamheid\,  herschep de aarde
DESCRIPTION:Duurzaamheid\,  herschep de aarde Wat betekent duurzaamheid voo
 r een kunstenaar? Ook een kunstenaar is een rentmeester van de aarde\,  met
  de mogelijkheden die zij/hij ter beschikking heeft. Ooit begonnen als soci
 aal geograaf en reizend door India\,  werd Heleni  Greeve geconfronteerd m
 et de omvang van de problemen in de wereld. Daarna[..]\nhttps://fonteinkerk
 -amersfoort.nl/events/wees-erbij-duurzaamheid-herschep-de-aarde/
URL:https://fonteinkerk-amersfoort.nl/events/wees-erbij-duurzaamheid-herschep-de-aarde/
END:VEVENT
END:VCALENDAR