BEGIN:VCALENDAR
VERSION:2.0
PRODID:-//eventon.com NONSGML v1.0//EN
CALSCALE:GREGORIAN
METHOD:PUBLISH
BEGIN:VEVENT
UID:69e8a564bc827
DTSTAMP:20260422T103932Z
DTSTART:20170531T193000Z
DTEND:20170531T220000Z
LOCATION:Fonteinkerk Robert Kochstraat 2-4\,  3817 JM Amersfoort
SUMMARY:Bibliodrama
DESCRIPTION:‘Spelen’ met de verhalen van jezelf\,  de ander en de Ande
 r In het woord ‘biblio-drama’ verwijst ‘biblio’ naar boeken\,  dra
 ma naar het spelen van de rollen en situaties. Door het spelen van bijbels
 e rollen en situaties worden deze verkend. Er komt een wisselwerking tot s
 tand tussen vragen\,  denkbeelden\,  intenties en handelingen van figuren u
 it[..]\nhttps://fonteinkerk-amersfoort.nl/events/bibliodrama/
URL:https://fonteinkerk-amersfoort.nl/events/bibliodrama/
END:VEVENT
END:VCALENDAR