BEGIN:VCALENDAR
VERSION:2.0
PRODID:-//eventon.com NONSGML v1.0//EN
CALSCALE:GREGORIAN
METHOD:PUBLISH
BEGIN:VEVENT
UID:69e8923468b31
DTSTAMP:20260422T091740Z
DTSTART:20200209T120000Z
DTEND:20200209T140000Z
LOCATION:Fonteinkerk Robert Kochstraat 2-4\,  3817 JM Amersfoort
SUMMARY:Muziek en Ontmoeting
DESCRIPTION:Domstad Blazersensemble Op zondag 9 februari a.s. vindt de vier
 de Muziek &amp; Ontmoeting van het seizoen 2019-2020 plaats. Het Domstad Bl
 azersensemble uit Utrecht speelt\,  onder leiding van Leon Bosch\,  twee op
 era&#8217;s in één programma\,  te weten Carmen van George Bizet en  Tos
 ca van Giacomo Puccini. Het zijn speciale uitvoeringen zonder[..]\nhttps://
 fonteinkerk-amersfoort.nl/events/muziek-en-ontmoeting-feb2020/
URL:https://fonteinkerk-amersfoort.nl/events/muziek-en-ontmoeting-feb2020/
END:VEVENT
END:VCALENDAR