BEGIN:VCALENDAR
VERSION:2.0
PRODID:-//eventon.com NONSGML v1.0//EN
CALSCALE:GREGORIAN
METHOD:PUBLISH
BEGIN:VEVENT
UID:69e887ae2adf3
DTSTAMP:20260422T083246Z
DTSTART:20200301T150000Z
DTEND:20200301T235000Z
LOCATION:Fonteinkerk Robert Kochstraat 2-4\,  3817 JM Amersfoort
SUMMARY:Poppenkastvoorstelling maart 2020
DESCRIPTION:Ook deze maand organiseert de Fonteinkerk de traditionele poppe
 nkastvoorstelling in Huis van Zuid. De voorstelling begint om 15:00 uur\, 
  de toegang is vrij maar een vrijwillige bijdrage voor de straatkinderen in
  Congo is welkom. Kom je ook en neem je je vriendjes en vriendinnetjes mee?
  Een impressie van een eerdere voorstelling[..]\nhttps://fonteinkerk-amersf
 oort.nl/events/poppenkastvoorstelling-maart-2020/
URL:https://fonteinkerk-amersfoort.nl/events/poppenkastvoorstelling-maart-2020/
END:VEVENT
END:VCALENDAR