BEGIN:VCALENDAR
VERSION:2.0
PRODID:-//eventon.com NONSGML v1.0//EN
CALSCALE:GREGORIAN
METHOD:PUBLISH
BEGIN:VEVENT
UID:69e8ba9ed1384
DTSTAMP:20260422T121006Z
DTSTART:20170603T200000Z
DTEND:20170603T220000Z
LOCATION:Fonteinkerk Robert Kochstraat 2-4\,  3817 JM Amersfoort
SUMMARY:Pinkster vigilie
DESCRIPTION:Hoe viert u Pinksteren dit jaar? Van de drie grote feesten die 
 we in de kerk kennen\,  komt Pinksteren er volgens mij het meest bekaaid va
 naf. Rond Kerst kunt u in Amersfoort kiezen uit diverse Kerstnachtdiensten\
 ,  Festival of Lessons and Carols\,  kerstspelen enzovoort. Pasen kent z&#8
 217;n Goede Week met vespers\, [..]\nhttps://fonteinkerk-amersfoort.nl/even
 ts/pinkster-vigilie/
URL:https://fonteinkerk-amersfoort.nl/events/pinkster-vigilie/
END:VEVENT
END:VCALENDAR