BEGIN:VCALENDAR
VERSION:2.0
PRODID:-//eventon.com NONSGML v1.0//EN
CALSCALE:GREGORIAN
METHOD:PUBLISH
BEGIN:VEVENT
UID:69e8a5c27e811
DTSTAMP:20260422T104106Z
DTSTART:20170917T120000Z
DTEND:20170917T140000Z
LOCATION:Fonteinkerk Robert Kochstraat 2-4\,  3817 JM Amersfoort
SUMMARY:Muziek en Ontmoeting: Benninghof Trio
DESCRIPTION:Benninghof Trio in de Fonteinkerk Muziek en Ontmoeting verlegt 
 haar grenzen. Ter gelegenheid van de zeventigste verjaardag van de Duitse c
 omponist Prof. Ortwin Benninghoff geeft het Duitse “Benninghoff trio“ o
 p 17 september in de Fonteinkerk een concert. In de bezetting viool\,  flui
 t en orgel worden werken van Benninghoff gespeeld en[..]\nhttps://fonteinke
 rk-amersfoort.nl/events/muziek-en-ontmoeting-benninghof-trio/
URL:https://fonteinkerk-amersfoort.nl/events/muziek-en-ontmoeting-benninghof-trio/
END:VEVENT
END:VCALENDAR