BEGIN:VCALENDAR
VERSION:2.0
PRODID:-//eventon.com NONSGML v1.0//EN
CALSCALE:GREGORIAN
METHOD:PUBLISH
BEGIN:VEVENT
UID:69e88a59562d6
DTSTAMP:20260422T084409Z
DTSTART:20170423
DTEND:20170424
LOCATION:Fonteinkerk Robert Kochstraat 2-4\,  3817 JM Amersfoort
SUMMARY:Expositie Sebanja
DESCRIPTION:De Joodse kunstenaar Sebanjah exposeert met schiderijen\,  teke
 ningen\,  gedichten en teksten van zondag 23 april tot 9 juni in de Fontein
 kerk. De expositie “Opdat wij niet vergeten” krijgt extra lading in de 
 eerste week van mei\,  wanneer wij de slachtoffers van de Tweede Wereldoorl
 og gedenken en het onnoemelijke leed dat[..]\nhttps://fonteinkerk-amersfoor
 t.nl/events/sebanja/
URL:https://fonteinkerk-amersfoort.nl/events/sebanja/
END:VEVENT
END:VCALENDAR