BEGIN:VCALENDAR
VERSION:2.0
PRODID:-//eventon.com NONSGML v1.0//EN
CALSCALE:GREGORIAN
METHOD:PUBLISH
BEGIN:VEVENT
UID:69e8a5b691107
DTSTAMP:20260422T104054Z
DTSTART:20170611T120000Z
DTEND:20170611T140000Z
LOCATION:Fonteinkerk Robert Kochstraat 2-4\,  3817 JM Amersfoort
SUMMARY:Muziek en Ontmoeting
DESCRIPTION:Op zondag 11 juni zal de derde Muziek&amp;Ontmoeting van 2017 p
 laatsvinden\,  waarvoor wij u van harte uitnodigen. Wij nodigen u niet alle
 en voor dit concert uit\,  maar ook om na afloop wat na te praten en een ee
 nvoudige lunch te gebruiken. De toegang is vrij\,  maar een vrijwillige bij
 drage wordt[..]\nhttps://fonteinkerk-amersfoort.nl/events/muziek-en-ontmoet
 ing-20170611/
URL:https://fonteinkerk-amersfoort.nl/events/muziek-en-ontmoeting-20170611/
END:VEVENT
END:VCALENDAR