BEGIN:VCALENDAR
VERSION:2.0
PRODID:-//eventon.com NONSGML v1.0//EN
CALSCALE:GREGORIAN
METHOD:PUBLISH
BEGIN:VEVENT
UID:69e9eb0dd5592
DTSTAMP:20260423T094901Z
DTSTART:20200318T200000Z
DTEND:20200318T220000Z
LOCATION:Emmauskerk Noordewierweg 131
SUMMARY:Leerhuis: Mozes\,  geroepen om weg te gaan IV
DESCRIPTION:Leerhuis: Mozes\,  geroepen om weg te gaan We lezen de teksten 
 uit Exodus en luisteren naar commentaren van joodse geleerden. Dat voedt on
 s gesprek\,  in de wetenschap dat de heftigheid. de twijfel\,  de zekerheid
  en de weerbarstigheid in het leven van Mozes ook klinken in ons eigen best
 aan. Niet alleen[..]\nhttps://fonteinkerk-amersfoort.nl/events/leerhuis-moz
 es-geroepen-om-weg-te-gaan-iv/
URL:https://fonteinkerk-amersfoort.nl/events/leerhuis-mozes-geroepen-om-weg-te-gaan-iv/
END:VEVENT
END:VCALENDAR