BEGIN:VCALENDAR
VERSION:2.0
PRODID:-//eventon.com NONSGML v1.0//EN
CALSCALE:GREGORIAN
METHOD:PUBLISH
BEGIN:VEVENT
UID:69e89a5e0d391
DTSTAMP:20260422T095230Z
DTSTART:20191224T190000Z
DTEND:20191224T235000Z
LOCATION:Fonteinkerk Robert Kochstraat 2-4\,  3817 JM Amersfoort
SUMMARY:Kerstspel 2019
DESCRIPTION:Kerstspel 2019: Niemand buiten spel Nadere informatie volgt. Je
  bent van harte welkom bij dit veelzijdige kerstspel! Collecte: Stichting I
 MC On Tour\nhttps://fonteinkerk-amersfoort.nl/events/kerstspel-2019/
URL:https://fonteinkerk-amersfoort.nl/events/kerstspel-2019/
END:VEVENT
END:VCALENDAR