BEGIN:VCALENDAR
VERSION:2.0
PRODID:-//eventon.com NONSGML v1.0//EN
CALSCALE:GREGORIAN
METHOD:PUBLISH
BEGIN:VEVENT
UID:69e8a2cd8716b
DTSTAMP:20260422T102829Z
DTSTART:20191120T200000Z
DTEND:20191120T235000Z
LOCATION:Fonteinkerk Robert Kochstraat 2-4\,  3817 JM Amersfoort
SUMMARY:Leerhuis: Bijbelse Vrouwen in zicht
DESCRIPTION:Leerhuis Bijbelse Vrouwen in zicht Ook dit najaar bieden wij ee
 n leerhuis  Bijbelse vrouwen in zicht aan onder leiding van Magda van der 
 Ende\,  theologe. Vanaf 1979 houdt ze zich bezig met kabbala. Ze vertaalde 
 Kabbala en Exodus\,  een boek van haar leraar Z’ev ben Shimon Halevi\,  i
 n het Nederlands.[..]\nhttps://fonteinkerk-amersfoort.nl/events/leerhuis-bi
 jbelse-vrouwen-in-zicht-2/
URL:https://fonteinkerk-amersfoort.nl/events/leerhuis-bijbelse-vrouwen-in-zicht-2/
END:VEVENT
END:VCALENDAR