BEGIN:VCALENDAR
VERSION:2.0
PRODID:-//eventon.com NONSGML v1.0//EN
CALSCALE:GREGORIAN
METHOD:PUBLISH
BEGIN:VEVENT
UID:69e8bb42eca04
DTSTAMP:20260422T121250Z
DTSTART:20191013
DTEND:20191014
LOCATION:Fonteinkerk Robert Kochstraat 2-4\,  3817 JM Amersfoort
SUMMARY:Expositie Atelier Chroom
DESCRIPTION:Expositie Atelier Chroom Van 13 oktober tot en met 2 februari 2
 020 zal er in de Fonteinkerk een expositie gehouden worden van de kunstenaa
 rsgroep Atelier Chroom. Atelier Chroom bestaat uit zes kunstenaars\,  Marg
 on van Toor\,  Laetitia Broersma\,  Caroline d&#8217;Holosy\,  Astrid Greve
 n\,  Martin Terlien en Fanny Heymann. Zij werken in artistiek opzicht[..]\n
 https://fonteinkerk-amersfoort.nl/events/expositie-atelier-chroom/
URL:https://fonteinkerk-amersfoort.nl/events/expositie-atelier-chroom/
END:VEVENT
END:VCALENDAR