BEGIN:VCALENDAR
VERSION:2.0
PRODID:-//eventon.com NONSGML v1.0//EN
CALSCALE:GREGORIAN
METHOD:PUBLISH
BEGIN:VEVENT
UID:69e8a6ad20786
DTSTAMP:20260422T104501Z
DTSTART:20191103T100000Z
DTEND:20191103T235000Z
LOCATION:Fonteinkerk Robert Kochstraat 2-4\,  3817 JM Amersfoort
SUMMARY:Viering voor jong en oud!
DESCRIPTION:Samen met de kinderen zoeken we uit WAT David speelde voor Saul
 . Nieuwsgierig? Kom dan op 3 november naar de Fonteinkerk! &nbsp;\nhttps://
 fonteinkerk-amersfoort.nl/events/viering-voor-jongenoud-november-2019/
URL:https://fonteinkerk-amersfoort.nl/events/viering-voor-jongenoud-november-2019/
END:VEVENT
END:VCALENDAR