BEGIN:VCALENDAR
VERSION:2.0
PRODID:-//eventon.com NONSGML v1.0//EN
CALSCALE:GREGORIAN
METHOD:PUBLISH
BEGIN:VEVENT
UID:69e891f53aa2d
DTSTAMP:20260422T091637Z
DTSTART:20191031T194500Z
DTEND:20191031T235000Z
LOCATION:Fonteinkerk Robert Kochstraat 2-4\,  3817 JM Amersfoort
SUMMARY:Bibliodrama Sint Maarten
DESCRIPTION:Bibliodrama Sint Maarten Sint Maarten is het feest van het dele
 n. Maarten was een legerofficier. Op een koude dag ontmoette hij een arme m
 an\,  die rilde van de kou. Maarten wilde niet verder gaan. Hij zag deze ma
 n en gaf hem de helft van zijn mantel. Ook de arme man[..]\nhttps://fontein
 kerk-amersfoort.nl/events/bibliodrama-sint-maarten/
URL:https://fonteinkerk-amersfoort.nl/events/bibliodrama-sint-maarten/
END:VEVENT
END:VCALENDAR