BEGIN:VCALENDAR
VERSION:2.0
PRODID:-//eventon.com NONSGML v1.0//EN
CALSCALE:GREGORIAN
METHOD:PUBLISH
BEGIN:VEVENT
UID:69e8a618d0917
DTSTAMP:20260422T104232Z
DTSTART:20191212T100000Z
DTEND:20191212T235000Z
LOCATION:
SUMMARY:Vrouwen in beweging december 2019
DESCRIPTION:De maandelijkse bijeenkomst\,  aanvang 10:00 uur. Deze bijeenko
 mst vindt niet plaats in de Fonteinkerk\,  stuur een email voor aanmelding 
 en informatie omtrent de locatie van deze bijeenkomst.\nhttps://fonteinkerk
 -amersfoort.nl/events/vrouwen-in-beweging-december-2019/
URL:https://fonteinkerk-amersfoort.nl/events/vrouwen-in-beweging-december-2019/
END:VEVENT
END:VCALENDAR