BEGIN:VCALENDAR
VERSION:2.0
PRODID:-//eventon.com NONSGML v1.0//EN
CALSCALE:GREGORIAN
METHOD:PUBLISH
BEGIN:VEVENT
UID:69e8ba31ebeb1
DTSTAMP:20260422T120817Z
DTSTART:20191114T100000Z
DTEND:20191114T235000Z
LOCATION:
SUMMARY:Vrouwen in beweging november 2019
DESCRIPTION:De maandelijkse bijeenkomst\,  aanvang 10:00 uur. Deze maand is
  Carla van Ee te gast\,  met voorlichting over het project van de Syrische 
 vluchtelingen. Deze bijeenkomst vindt niet plaats in de Fonteinkerk\,  stuu
 r een email voor aanmelding en informatie omtrent de locatie van deze bijee
 nkomst.\nhttps://fonteinkerk-amersfoort.nl/events/vrouwen-in-beweging-novem
 ber-2019/
URL:https://fonteinkerk-amersfoort.nl/events/vrouwen-in-beweging-november-2019/
END:VEVENT
END:VCALENDAR