BEGIN:VCALENDAR
VERSION:2.0
PRODID:-//eventon.com NONSGML v1.0//EN
CALSCALE:GREGORIAN
METHOD:PUBLISH
BEGIN:VEVENT
UID:69e8a61e6fabe
DTSTAMP:20260422T104238Z
DTSTART:20191006T150000Z
DTEND:20191006T235000Z
LOCATION:Fonteinkerk Robert Kochstraat 2-4\,  3817 JM Amersfoort
SUMMARY:Poppenkastvoorstelling oktober 2019
DESCRIPTION:Ook deze maand organiseert de Fonteinkerk de traditionele popp
 enkastvoorstelling in Huis van Zuid. De voorstelling begint om 15:00 uur\,
   de toegang is vrij maar een vrijwillige bijdrage voor de straatkinderen i
 n Congo is welkom. Kom je ook en neem je je vriendjes en vriendinnetjes mee
 ? Een impressie van een eerdere voorstelling vind[..]\nhttps://fonteinkerk-
 amersfoort.nl/events/poppenkastvoorstelling-oktober-2019/
URL:https://fonteinkerk-amersfoort.nl/events/poppenkastvoorstelling-oktober-2019/
END:VEVENT
END:VCALENDAR