BEGIN:VCALENDAR
VERSION:2.0
PRODID:-//eventon.com NONSGML v1.0//EN
CALSCALE:GREGORIAN
METHOD:PUBLISH
BEGIN:VEVENT
UID:69e8bb21efab4
DTSTAMP:20260422T121217Z
DTSTART:20190804
DTEND:20190805
LOCATION:Fonteinkerk Robert Kochstraat 2-4\,  3817 JM Amersfoort
SUMMARY:Expositie Greetje Baars
DESCRIPTION:Expositie Greetje Baars Van 4 augustus t/m 7 oktober a.s. zal e
 r in de Fonteinkerk een expositie gehouden worden van de kunstenaar Greetje
  Baars. &#8220;Mijn werk wordt dikwijls geïnspireerd door mijn verbondenhe
 id met de Bijbel en de natuur. Geconfronteerd met de grootsheid van de sche
 pping\,  met de ruimtelijke vrijheid\,  wordt[..]\nhttps://fonteinkerk-amer
 sfoort.nl/events/expositie-greetje-baars/
URL:https://fonteinkerk-amersfoort.nl/events/expositie-greetje-baars/
END:VEVENT
END:VCALENDAR