BEGIN:VCALENDAR
VERSION:2.0
PRODID:-//eventon.com NONSGML v1.0//EN
CALSCALE:GREGORIAN
METHOD:PUBLISH
BEGIN:VEVENT
UID:69e8bb42ec0d8
DTSTAMP:20260422T121250Z
DTSTART:20190922T100000Z
DTEND:20190922T235000Z
LOCATION:
SUMMARY:Gemeentezondag seizoen 2019-2020
DESCRIPTION:Gemeentezondag 22 september 2019 Welkom in de Fonteinkerk op zo
 ndag 22 september! We vieren dan onze jaarlijkse Gemeentezondag met als the
 ma Frisse Blik. We Programma: 10.00 uur: Korte viering. We lezen Exodus 32:
 7-14. Dankzij Mozes krijgt God een frisse blik op een moeilijke situatie. 
 We bevestigen een nieuwe ouderling. 10.45 uur:[..]\nhttps://fonteinkerk-ame
 rsfoort.nl/events/gemeentezondag-2019-2020/
URL:https://fonteinkerk-amersfoort.nl/events/gemeentezondag-2019-2020/
END:VEVENT
END:VCALENDAR