BEGIN:VCALENDAR
VERSION:2.0
PRODID:-//eventon.com NONSGML v1.0//EN
CALSCALE:GREGORIAN
METHOD:PUBLISH
BEGIN:VEVENT
UID:69e8bb7bd4f4f
DTSTAMP:20260422T121347Z
DTSTART:20191009T200000Z
DTEND:20191009T235000Z
LOCATION:Fonteinkerk Robert Kochstraat 2-4\,  3817 JM Amersfoort
SUMMARY:Rembrandtlezingen
DESCRIPTION:Rembrandtlezingen In dit Rembrandtjaar gaan we schilderijen van
  Rembrandt ontcijferen samen met Dr. Gerda Hoekveld-Meijer. Zij is  auteur
  van theologische en kunsthistorische boeken zoals  “De God van Rembrand
 t” en haar laatste boek  “Sprekende spiegels”. In deze lezingen maak
 t u kennis met een kant van Rembrandt die weinig naar voren komt[..]\nhttps
 ://fonteinkerk-amersfoort.nl/events/rembrandtlezingen-2/
URL:https://fonteinkerk-amersfoort.nl/events/rembrandtlezingen-2/
END:VEVENT
END:VCALENDAR