BEGIN:VCALENDAR
VERSION:2.0
PRODID:-//eventon.com NONSGML v1.0//EN
CALSCALE:GREGORIAN
METHOD:PUBLISH
BEGIN:VEVENT
UID:69e89ab6456dd
DTSTAMP:20260422T095358Z
DTSTART:20190927T200000Z
DTEND:20190927T235000Z
LOCATION:Fonteinkerk Robert Kochstraat 2-4\,  3817 JM Amersfoort
SUMMARY:Wees Erbij Café / Vredesweek: Op stap naar een klimaat van Vrede & Recht
DESCRIPTION:Een klimaat waarin vrede kan bloeien Thema-avond in het kader v
 an de Vredesweek\,  met als thema &#8220;Een klimaat waarin vrede kan bloei
 en&#8221;.  Marjan Bosch neemt ons deze avond mee op reis. Met groene stap
 pen\,  vredevolle stappen\,  stappen vol vertrouwen en verhalen over hoe he
 t kan lukken: dat klimaat komt er[..]\nhttps://fonteinkerk-amersfoort.nl/ev
 ents/wees-erbij-cafe-vredesweek-2019/
URL:https://fonteinkerk-amersfoort.nl/events/wees-erbij-cafe-vredesweek-2019/
END:VEVENT
END:VCALENDAR