BEGIN:VCALENDAR
VERSION:2.0
PRODID:-//eventon.com NONSGML v1.0//EN
CALSCALE:GREGORIAN
METHOD:PUBLISH
BEGIN:VEVENT
UID:69e8a5653ba12
DTSTAMP:20260422T103933Z
DTSTART:20190913T200000Z
DTEND:20190913T235000Z
LOCATION:Fonteinkerk Robert Kochstraat 2-4\,  3817 JM Amersfoort
SUMMARY:Wees Erbij Café: Hildegard von Bingen
DESCRIPTION:Hildegard von Bingen Op 13 september is er weer een Weeserbij c
 afé in de Zonnekamer van Huis van Zuid. Onderwerp is &#8220;Presentie&#822
 1;\,  we kijken hierbij naar de historische figuur Hildegard von Bingen. Ho
 e was zij present in haar tijd van leven en wat nemen we nu nog van haar me
 e[..]\nhttps://fonteinkerk-amersfoort.nl/events/wees-erbij-cafe-hildegardvo
 nbingen/
URL:https://fonteinkerk-amersfoort.nl/events/wees-erbij-cafe-hildegardvonbingen/
END:VEVENT
END:VCALENDAR