BEGIN:VCALENDAR
VERSION:2.0
PRODID:-//eventon.com NONSGML v1.0//EN
CALSCALE:GREGORIAN
METHOD:PUBLISH
BEGIN:VEVENT
UID:69e8bb7bd2308
DTSTAMP:20260422T121347Z
DTSTART:20191222T120000Z
DTEND:20191222T140000Z
LOCATION:Fonteinkerk Robert Kochstraat 2-4\,  3817 JM Amersfoort
SUMMARY:Muziek en Ontmoeting\,  Festival of Lessons & Carols
DESCRIPTION:Muziek en Ontmoeting\,  Festival of Lessons &amp; Carols Op zon
 dag 22 december a.s. vindt het traditionele Festival of Lessons and Carols 
 plaats. Dit jaar verleent het projectkoor FONS o.l.v. Marnix Ruiter haar me
 dewerking. Henk Veldman begeleidt op het orgel. Zaal open: 11:30 uur Aanvan
 g: 12 uur Afsluiting met gezamenlijke lunch[..]\nhttps://fonteinkerk-amersf
 oort.nl/events/muziek-en-ontmoeting-22-12-19/
URL:https://fonteinkerk-amersfoort.nl/events/muziek-en-ontmoeting-22-12-19/
END:VEVENT
END:VCALENDAR