BEGIN:VCALENDAR
VERSION:2.0
PRODID:-//eventon.com NONSGML v1.0//EN
CALSCALE:GREGORIAN
METHOD:PUBLISH
BEGIN:VEVENT
UID:69e8d3db9267d
DTSTAMP:20260422T135747Z
DTSTART:20191103T120000Z
DTEND:20191103T140000Z
LOCATION:Fonteinkerk Robert Kochstraat 2-4\,  3817 JM Amersfoort
SUMMARY:Muziek en Ontmoeting
DESCRIPTION:Van Luther tot nu\,  muziek door de eeuwen heen Op zondag 3 nov
 ember a.s. vindt de tweede Muziek &amp; Ontmoeting van het seizoen 2019-202
 0 plaats. Het Luthers Projectkoor neemt u mee op een muzikale reis\,  onder
  de titel &#8220;Van Luther tot nu\,  muziek door de eeuwen heen”. Het or
 gel krijgt[..]\nhttps://fonteinkerk-amersfoort.nl/events/muziek-en-ontmoeti
 ng-3-11-19/
URL:https://fonteinkerk-amersfoort.nl/events/muziek-en-ontmoeting-3-11-19/
END:VEVENT
END:VCALENDAR