BEGIN:VCALENDAR
VERSION:2.0
PRODID:-//eventon.com NONSGML v1.0//EN
CALSCALE:GREGORIAN
METHOD:PUBLISH
BEGIN:VEVENT
UID:69e9ed700375f
DTSTAMP:20260423T095912Z
DTSTART:20190929T120000Z
DTEND:20190929T140000Z
LOCATION:Fonteinkerk Robert Kochstraat 2-4\,  3817 JM Amersfoort
SUMMARY:Muziek en Ontmoeting
DESCRIPTION:Muziek en Ontmoeting Ierland\,  in foto&#8217;s verhalen\,  ged
 ichten en muziek Op zondag 29 september a.s. vindt de eerste Muziek &amp; O
 ntmoeting van het seizoen 2019-2020 plaats. U gaat genieten van een uniek 
 en inspirerend programma over Ierland. Uitgangspunt voor dit programma zijn
  de foto’s die Mariet Lems illustreert met gedichten en[..]\nhttps://font
 einkerk-amersfoort.nl/events/muziek-en-ontmoeting-29-9-19/
URL:https://fonteinkerk-amersfoort.nl/events/muziek-en-ontmoeting-29-9-19/
END:VEVENT
END:VCALENDAR