BEGIN:VCALENDAR
VERSION:2.0
PRODID:-//eventon.com NONSGML v1.0//EN
CALSCALE:GREGORIAN
METHOD:PUBLISH
BEGIN:VEVENT
UID:69e9d8f951404
DTSTAMP:20260423T083153Z
DTSTART:20190512
DTEND:20190513
LOCATION:Fonteinkerk Robert Kochstraat 2-4\,  3817 JM Amersfoort
SUMMARY:Expositie Gerard Kuit en Anna Seehausen
DESCRIPTION:Expositie Gerard Kuit en Anna Seehausen Gezamenlijke expositie 
 in de Fonteinkerk Van 12 mei t/m 28 juli zal er in de Fonteinkerk een gezam
 enlijke expositie gehouden worden van de kunstenaars Gerard Kuit en Anna Se
 ehausen. Gerard Kuit is pentekenaar en autodidact. Tekenen met Oost-Indisch
 e inkt en kroontjespen blijft hem steeds[..]\nhttps://fonteinkerk-amersfoor
 t.nl/events/expositie-gerard-kuit-en-anna-seehausen/
URL:https://fonteinkerk-amersfoort.nl/events/expositie-gerard-kuit-en-anna-seehausen/
END:VEVENT
END:VCALENDAR