BEGIN:VCALENDAR
VERSION:2.0
PRODID:-//eventon.com NONSGML v1.0//EN
CALSCALE:GREGORIAN
METHOD:PUBLISH
BEGIN:VEVENT
UID:69e9ea4128c8b
DTSTAMP:20260423T094537Z
DTSTART:20190516T190000Z
DTEND:20190516T235000Z
LOCATION:Fonteinkerk Robert Kochstraat 2-4\,  3817 JM Amersfoort
SUMMARY:Pinksterschilderen: Maak je dromen waar!
DESCRIPTION:Pinksterschilderen: Maak je dromen waar(desnoods tegen de stroo
 m in)! Onder de bezielende leiding van  Wouda Koelewijn\,  kunstenares\,  
 wordt er op donderdagavond  16 mei  gezamenlijk gewerkt aan een Pinksterp
 aneel met het thema ‘Maak je dromen waar’. We kijken naar het werk van 
 kunstenaar H. Werkman en laten ons inspireren door zijn[..]\nhttps://fontei
 nkerk-amersfoort.nl/events/pinksterschilderen/
URL:https://fonteinkerk-amersfoort.nl/events/pinksterschilderen/
END:VEVENT
END:VCALENDAR