BEGIN:VCALENDAR
VERSION:2.0
PRODID:-//eventon.com NONSGML v1.0//EN
CALSCALE:GREGORIAN
METHOD:PUBLISH
BEGIN:VEVENT
UID:69e9fd34295ae
DTSTAMP:20260423T110628Z
DTSTART:20190630T120000Z
DTEND:20190630T140000Z
LOCATION:Fonteinkerk Robert Kochstraat 2-4\,  3817 JM Amersfoort
SUMMARY:Muziek en Ontmoeting
DESCRIPTION:Muziek en Ontmoeting Op zondag 30 juni a.s. vindt de laatste Mu
 ziek &amp; Ontmoeting van dit seizoen plaats. In deze voorstelling speelt H
 ayo Boerema\,  vaste organist van de Rotterdamse Laurenskerk\,  een schitte
 rend orgelrecital. Het gevarieerde programma bestaat uit werken van de 17e 
 tot en met de 21e eeuw\,  zowel solistisch[..]\nhttps://fonteinkerk-amersfo
 ort.nl/events/muziek-en-ontmoeting/
URL:https://fonteinkerk-amersfoort.nl/events/muziek-en-ontmoeting/
END:VEVENT
END:VCALENDAR