BEGIN:VCALENDAR
VERSION:2.0
PRODID:-//eventon.com NONSGML v1.0//EN
CALSCALE:GREGORIAN
METHOD:PUBLISH
BEGIN:VEVENT
UID:69ea144c1a3b0
DTSTAMP:20260423T124500Z
DTSTART:20190525T110000Z
DTEND:20190525T160000Z
LOCATION:Juliana van Stolbergpark Leusderweg
SUMMARY:Wijkfeest Amersfoort-Zuid 2019
DESCRIPTION:Wijkfeest Amersfoort-Zuid 2019 &#8220;Muziek\,  standjes/presen
 taties van activiteiten en initiatieven in dit stadsdeel\,  lekker eten en 
 drinken\,  kleedjesmarkt en kinderactiviteiten. Voor stadgenoten uit Vermee
 rkwartier\,  Dorrestein\,  Leusderkwartier\,  Bosgebied en de Berg. We mikk
 en dit jaar op 2000 bezoekers.&#8221;\,  aldus de organisatie van het Wijkf
 eest. Op zaterdag 25 mei a.s. gonst het in[..]\nhttps://fonteinkerk-amersfo
 ort.nl/events/wijkfeest-2019/
URL:https://fonteinkerk-amersfoort.nl/events/wijkfeest-2019/
END:VEVENT
END:VCALENDAR