BEGIN:VCALENDAR
VERSION:2.0
PRODID:-//eventon.com NONSGML v1.0//EN
CALSCALE:GREGORIAN
METHOD:PUBLISH
BEGIN:VEVENT
UID:69e891e69ffb5
DTSTAMP:20260422T091622Z
DTSTART:20190510T200000Z
DTEND:20190510T235000Z
LOCATION:Fonteinkerk Robert Kochstraat 2-4\,  3817 JM Amersfoort
SUMMARY:Wees Erbij Café: Herdenkingsstenen
DESCRIPTION:‘Hun namen niet vergeten’ Op 30 april 2015 legt de Stichtin
 g Herdenkingsstenen Amersfoort de eerste kleine zwarte herdenkingsstenen vo
 or inwoners die de Tweede Wereld Oorlog niet overleefden. Vier jaar later\,
   op 10 april 2019\,  zijn er 411 stenen onthuld\,  411 namen van vrouwen\,
   mannen\,  kinderen\,  opa’s\,  oma’s\,  ooms en tantes\, [..]\nhttps:
 //fonteinkerk-amersfoort.nl/events/herdenkingsstenen/
URL:https://fonteinkerk-amersfoort.nl/events/herdenkingsstenen/
END:VEVENT
END:VCALENDAR